BEGIN:VCALENDAR
VERSION:2.0
PRODID:-//eventon.com NONSGML v1.0//EN
BEGIN:VEVENT
UID:69eb76be9808a
DTSTAMP:20260424T235718
DTSTART:20260514T223000Z
DTEND:20260515T135000Z
LOCATION:ICC Sydney 14 Darling Drive 
SUMMARY:GPCE Sydney 2026
DESCRIPTION: GPCE Sydney is widely recognised as one of the most important educational events on the general practice calendar and is where healthcare professionals come to discover the latest medical innovations\,  learn about novel approaches to care through accredited CPD education and interact with industry leaders and peers. The GPCE welcomes[..]
END:VEVENT
END:VCALENDAR